BEGIN:VCALENDAR
VERSION:2.0
PRODID:-//hacksw/handcal//NONSGML v1.0//EN
BEGIN:VEVENT
UID:e6d4ae1da97e8eb805ab549e2ea7c332@scienceweek.net.au
DTSTAMP:20190810T180000
DTSTART:20190810T180000
DTEND:20190810T220000
SUMMARY:Science Week 2020 - Extrasensory
DESCRIPTION:Augment your reality. AI, bionics and smart devices are here to extend and enhance your senses. So what are the possible futures of human perception? At this event combining performance, storytelling, and experimentation, make sense of the world of the senses, and find the limits to your own.
END:VEVENT
END:VCALENDAR